BEGIN:VCALENDAR
VERSION:2.0
PRODID:-//Gimnasio Moderno Robinson Crusoe - ECPv6.15.20//NONSGML v1.0//EN
CALSCALE:GREGORIAN
METHOD:PUBLISH
X-WR-CALNAME:Gimnasio Moderno Robinson Crusoe
X-ORIGINAL-URL:https://robinsoncrusoe.edu.co
X-WR-CALDESC:Eventos para Gimnasio Moderno Robinson Crusoe
REFRESH-INTERVAL;VALUE=DURATION:PT1H
X-Robots-Tag:noindex
X-PUBLISHED-TTL:PT1H
BEGIN:VTIMEZONE
TZID:America/New_York
BEGIN:DAYLIGHT
TZOFFSETFROM:-0500
TZOFFSETTO:-0400
TZNAME:EDT
DTSTART:20220313T070000
END:DAYLIGHT
BEGIN:STANDARD
TZOFFSETFROM:-0400
TZOFFSETTO:-0500
TZNAME:EST
DTSTART:20221106T060000
END:STANDARD
BEGIN:DAYLIGHT
TZOFFSETFROM:-0500
TZOFFSETTO:-0400
TZNAME:EDT
DTSTART:20230312T070000
END:DAYLIGHT
BEGIN:STANDARD
TZOFFSETFROM:-0400
TZOFFSETTO:-0500
TZNAME:EST
DTSTART:20231105T060000
END:STANDARD
BEGIN:DAYLIGHT
TZOFFSETFROM:-0500
TZOFFSETTO:-0400
TZNAME:EDT
DTSTART:20240310T070000
END:DAYLIGHT
BEGIN:STANDARD
TZOFFSETFROM:-0400
TZOFFSETTO:-0500
TZNAME:EST
DTSTART:20241103T060000
END:STANDARD
END:VTIMEZONE
BEGIN:VEVENT
DTSTART;VALUE=DATE:20230719
DTEND;VALUE=DATE:20230720
DTSTAMP:20260423T145828
CREATED:20230825T154257Z
LAST-MODIFIED:20230825T154257Z
UID:346-1689724800-1689811199@robinsoncrusoe.edu.co
SUMMARY:Día de la Independencia y de Cundinamarca
DESCRIPTION:Día de la Independencia y de Cundinamarca
URL:https://robinsoncrusoe.edu.co/event/dia-de-la-independencia-y-de-cundinamarca/
CATEGORIES:Izadas de Bandera - Exámenes Semestrales
END:VEVENT
BEGIN:VEVENT
DTSTART;TZID=America/New_York:20230616T080000
DTEND;TZID=America/New_York:20230711T170000
DTSTAMP:20260423T145828
CREATED:20230825T154935Z
LAST-MODIFIED:20230825T154935Z
UID:362-1686902400-1689094800@robinsoncrusoe.edu.co
SUMMARY:Vacaciones mitad de año
DESCRIPTION:Vacaciones mitad de año
URL:https://robinsoncrusoe.edu.co/event/vacaciones-mitad-de-ano/
CATEGORIES:Recesos Escolares
END:VEVENT
BEGIN:VEVENT
DTSTART;TZID=America/New_York:20230605T080000
DTEND;TZID=America/New_York:20230616T170000
DTSTAMP:20260423T145828
CREATED:20230825T154039Z
LAST-MODIFIED:20230825T154039Z
UID:344-1685952000-1686934800@robinsoncrusoe.edu.co
SUMMARY:Exámenes primer semestre
DESCRIPTION:Exámenes primer semestre
URL:https://robinsoncrusoe.edu.co/event/examenes-primer-semestre/
CATEGORIES:Izadas de Bandera - Exámenes Semestrales
END:VEVENT
BEGIN:VEVENT
DTSTART;VALUE=DATE:20230526
DTEND;VALUE=DATE:20230527
DTSTAMP:20260423T145828
CREATED:20230825T153326Z
LAST-MODIFIED:20230825T153326Z
UID:332-1685059200-1685145599@robinsoncrusoe.edu.co
SUMMARY:Jornada deportiva y recreativa
DESCRIPTION:Jornada deportiva y recreativa
URL:https://robinsoncrusoe.edu.co/event/jornada-deportiva-y-recreativa/
CATEGORIES:Eventos Institucionales
END:VEVENT
BEGIN:VEVENT
DTSTART;VALUE=DATE:20230513
DTEND;VALUE=DATE:20230514
DTSTAMP:20260423T145828
CREATED:20230825T152728Z
LAST-MODIFIED:20230825T152728Z
UID:316-1683936000-1684022399@robinsoncrusoe.edu.co
SUMMARY:Talleres con Padres de Familia - Primaria
DESCRIPTION:Talleres con padres de familia – Primaria
URL:https://robinsoncrusoe.edu.co/event/talleres-con-padres-de-familia-primaria/
CATEGORIES:Taller con Padres de Familia
END:VEVENT
BEGIN:VEVENT
DTSTART;VALUE=DATE:20230512
DTEND;VALUE=DATE:20230513
DTSTAMP:20260423T145828
CREATED:20230825T153134Z
LAST-MODIFIED:20230825T153134Z
UID:326-1683849600-1683935999@robinsoncrusoe.edu.co
SUMMARY:Día del Educador
DESCRIPTION:Día del educador
URL:https://robinsoncrusoe.edu.co/event/dia-del-educador/
CATEGORIES:Celebraciones Institucionales
END:VEVENT
BEGIN:VEVENT
DTSTART;VALUE=DATE:20230426
DTEND;VALUE=DATE:20230427
DTSTAMP:20260423T145828
CREATED:20230825T153039Z
LAST-MODIFIED:20230825T153039Z
UID:324-1682467200-1682553599@robinsoncrusoe.edu.co
SUMMARY:Día de la secretaria
DESCRIPTION:Día de la secretaria
URL:https://robinsoncrusoe.edu.co/event/dia-de-la-secretaria/
CATEGORIES:Celebraciones Institucionales
END:VEVENT
BEGIN:VEVENT
DTSTART;VALUE=DATE:20230421
DTEND;VALUE=DATE:20230422
DTSTAMP:20260423T145828
CREATED:20230825T153934Z
LAST-MODIFIED:20230825T153934Z
UID:342-1682035200-1682121599@robinsoncrusoe.edu.co
SUMMARY:Día del Idioma
DESCRIPTION:Día del idioma
URL:https://robinsoncrusoe.edu.co/event/dia-del-idioma/
CATEGORIES:Izadas de Bandera - Exámenes Semestrales
END:VEVENT
BEGIN:VEVENT
DTSTART;VALUE=DATE:20230421
DTEND;VALUE=DATE:20230422
DTSTAMP:20260423T145828
CREATED:20230825T152231Z
LAST-MODIFIED:20230825T152255Z
UID:306-1682035200-1682121599@robinsoncrusoe.edu.co
SUMMARY:Informe Académico Primer Periodo
DESCRIPTION:Informe Académico Primer Periodo
URL:https://robinsoncrusoe.edu.co/event/informe-academico-primer-periodo/
CATEGORIES:Reunión de Padres - Entrega de Boletines
END:VEVENT
BEGIN:VEVENT
DTSTART;TZID=America/New_York:20230401T080000
DTEND;TZID=America/New_York:20230409T170000
DTSTAMP:20260423T145828
CREATED:20230825T154847Z
LAST-MODIFIED:20230825T154847Z
UID:360-1680336000-1681059600@robinsoncrusoe.edu.co
SUMMARY:Semana Santa
DESCRIPTION:Semana Santa
URL:https://robinsoncrusoe.edu.co/event/semana-santa/
CATEGORIES:Recesos Escolares
END:VEVENT
BEGIN:VEVENT
DTSTART;VALUE=DATE:20230317
DTEND;VALUE=DATE:20230318
DTSTAMP:20260423T145828
CREATED:20230825T152949Z
LAST-MODIFIED:20230825T152949Z
UID:322-1679011200-1679097599@robinsoncrusoe.edu.co
SUMMARY:Día del Hombre y Elección del personero
DESCRIPTION:Día del Hombre y Elección del personero
URL:https://robinsoncrusoe.edu.co/event/dia-del-hombre-y-eleccion-del-personero/
CATEGORIES:Celebraciones Institucionales
END:VEVENT
BEGIN:VEVENT
DTSTART;VALUE=DATE:20230308
DTEND;VALUE=DATE:20230309
DTSTAMP:20260423T145828
CREATED:20230825T152857Z
LAST-MODIFIED:20230825T152857Z
UID:320-1678233600-1678319999@robinsoncrusoe.edu.co
SUMMARY:Día de la Mujer
DESCRIPTION:Día de la Mujer
URL:https://robinsoncrusoe.edu.co/event/dia-de-la-mujer/
CATEGORIES:Celebraciones Institucionales
END:VEVENT
BEGIN:VEVENT
DTSTART;VALUE=DATE:20230217
DTEND;VALUE=DATE:20230218
DTSTAMP:20260423T145828
CREATED:20230825T152150Z
LAST-MODIFIED:20230825T152150Z
UID:304-1676592000-1676678399@robinsoncrusoe.edu.co
SUMMARY:Presentación del plan operativo institucional 2023
DESCRIPTION:Presentación del plan operativo institucional 2023 \nConformación del consejo directivo – consejo de padres \nOtras disposiciones generales (entrega de módulos\, agendas y circulares N° 001\, Cronograma 2023)
URL:https://robinsoncrusoe.edu.co/event/presentacion-del-plan-operativo-institucional-2023/
CATEGORIES:Reunión de Padres - Entrega de Boletines
END:VEVENT
END:VCALENDAR